BEGIN:VCALENDAR
VERSION:2.0
PRODID:-//PPGEL - ECPv6.7.0//NONSGML v1.0//EN
CALSCALE:GREGORIAN
METHOD:PUBLISH
X-ORIGINAL-URL:https://ppgel.uefs.br
X-WR-CALDESC:Eventos para PPGEL
REFRESH-INTERVAL;VALUE=DURATION:PT1H
X-Robots-Tag:noindex
X-PUBLISHED-TTL:PT1H
BEGIN:VTIMEZONE
TZID:America/Sao_Paulo
BEGIN:STANDARD
TZOFFSETFROM:-0300
TZOFFSETTO:-0300
TZNAME:-03
DTSTART:20240101T000000
END:STANDARD
END:VTIMEZONE
BEGIN:VEVENT
DTSTART;VALUE=DATE:20240906
DTEND;VALUE=DATE:20241007
DTSTAMP:20260419T220650
CREATED:20240906T134803Z
LAST-MODIFIED:20240906T134803Z
UID:2486-1725580800-1728259199@ppgel.uefs.br
SUMMARY:Seleção para aluno regular 2025
DESCRIPTION:O Programa de Pós-Graduação em Estudos Linguísticos da Universidade Estadual de Feira de Santana anuncia a publicação do Edital para Aluno Regular de 2025\, com vagas para os cursos de Mestrado e Doutorado Acadêmicos. As inscrições ocorrerão de 06 de setembro a 06 de outubro de 2024.\nAs inscrições serão realizadas online\, sem cobrança de taxa\, e exigem a submissão de documentos específicos. O processo seletivo inclui avaliação de anteprojeto\, prova de conhecimento específico\, entrevista\, prova de proficiência em língua estrangeira e análise do currículo. Serão oferecidas 35 vagas ao todo\, distribuídas entre os cursos de Mestrado (20 vagas) e Doutorado (15 vagas)\, com a implementação de ações afirmativas para grupos historicamente excluídos e reserva de vagas para servidores da UEFS.
URL:https://ppgel.uefs.br/event/selecao-para-aluno-regular-2025/
END:VEVENT
END:VCALENDAR