BEGIN:VCALENDAR
VERSION:2.0
PRODID:-//PPGEL - ECPv6.7.0//NONSGML v1.0//EN
CALSCALE:GREGORIAN
METHOD:PUBLISH
X-WR-CALNAME:PPGEL
X-ORIGINAL-URL:https://ppgel.uefs.br
X-WR-CALDESC:Eventos para PPGEL
REFRESH-INTERVAL;VALUE=DURATION:PT1H
X-Robots-Tag:noindex
X-PUBLISHED-TTL:PT1H
BEGIN:VTIMEZONE
TZID:America/Sao_Paulo
BEGIN:STANDARD
TZOFFSETFROM:-0300
TZOFFSETTO:-0300
TZNAME:-03
DTSTART:20240101T000000
END:STANDARD
END:VTIMEZONE
BEGIN:VEVENT
DTSTART;VALUE=DATE:20241023
DTEND;VALUE=DATE:20241026
DTSTAMP:20260419T220619
CREATED:20241011T020916Z
LAST-MODIFIED:20241011T021026Z
UID:2537-1729641600-1729900799@ppgel.uefs.br
SUMMARY:XII ENCONTRO NORDESTINO DE SOCIOLINGUÍSTICA
DESCRIPTION:Com o propósito de congregar estudantes e pesquisadores da área\, surgiu\, em 2011\, o Encontro de Sociolinguística. Com esse encontro\, esperavam-se fomentar métodos de pesquisa\, divulgar trabalhos realizados ou em andamento\, estimular a pesquisa na comunidade acadêmica e na sociedade. De 2011 para cá\, o Encontro de Sociolinguística já foi realizado em Salvador-BA\, na Universidade do Estado da Bahia (UNEB) e na Universidade Federal da Bahia (UFBA); em Feira de Santana-BA\, na Universidade Estadual de Feira de Santana (UEFS); em Aracaju-SE\, na Universidade Federal de Sergipe (UFS); e\, agora\, em 2024\, o Encontro Nordestino de Sociolinguística será realizado\, pela primeira vez\, no sudoeste baiano\, em Vitória da Conquista-BA\, e será sediado na Universidade Estadual do Sudoeste da Bahia – UESB.
URL:https://ppgel.uefs.br/event/xii-encontro-nordestino-de-sociolinguistica/
END:VEVENT
END:VCALENDAR