BEGIN:VCALENDAR
VERSION:2.0
PRODID:-//PPGEL - ECPv6.7.0//NONSGML v1.0//EN
CALSCALE:GREGORIAN
METHOD:PUBLISH
X-ORIGINAL-URL:https://ppgel.uefs.br
X-WR-CALDESC:Eventos para PPGEL
REFRESH-INTERVAL;VALUE=DURATION:PT1H
X-Robots-Tag:noindex
X-PUBLISHED-TTL:PT1H
BEGIN:VTIMEZONE
TZID:America/Sao_Paulo
BEGIN:STANDARD
TZOFFSETFROM:-0300
TZOFFSETTO:-0300
TZNAME:-03
DTSTART:20250101T000000
END:STANDARD
END:VTIMEZONE
BEGIN:VEVENT
DTSTART;TZID=America/Sao_Paulo:20250210T080000
DTEND;TZID=America/Sao_Paulo:20250214T170000
DTSTAMP:20260419T161929
CREATED:20241219T130436Z
LAST-MODIFIED:20241219T130553Z
UID:2673-1739174400-1739552400@ppgel.uefs.br
SUMMARY:Preenchimento do formulário eletrônico para matrícula
DESCRIPTION:O PEDIDO DE MATRÍCULA NAS DISCIPLINAS DEVE SER FEITO PELO FORMULÁRIO https://forms.gle/fH6FByKxE4RX5XR37.   
URL:https://ppgel.uefs.br/event/preenchimento-do-formulario-eletronico-para-matricula/
END:VEVENT
END:VCALENDAR