BEGIN:VCALENDAR
VERSION:2.0
PRODID:-//PPGEL - ECPv6.7.0//NONSGML v1.0//EN
CALSCALE:GREGORIAN
METHOD:PUBLISH
X-ORIGINAL-URL:https://ppgel.uefs.br
X-WR-CALDESC:Eventos para PPGEL
REFRESH-INTERVAL;VALUE=DURATION:PT1H
X-Robots-Tag:noindex
X-PUBLISHED-TTL:PT1H
BEGIN:VTIMEZONE
TZID:America/Sao_Paulo
BEGIN:STANDARD
TZOFFSETFROM:-0300
TZOFFSETTO:-0300
TZNAME:-03
DTSTART:20250101T000000
END:STANDARD
END:VTIMEZONE
BEGIN:VEVENT
DTSTART;TZID=America/Sao_Paulo:20250603T080000
DTEND;TZID=America/Sao_Paulo:20250801T170000
DTSTAMP:20260419T103035
CREATED:20250624T130254Z
LAST-MODIFIED:20250624T130254Z
UID:6103-1748937600-1754067600@ppgel.uefs.br
SUMMARY:UEFS lança edital de auxílio financeiro a laboratórios institucionais – PROLAB 2025
DESCRIPTION:A Universidade Estadual de Feira de Santana (UEFS) torna público o Edital Interno nº 01/2025\, referente ao Programa Interno de Apoio aos Laboratórios (PROLAB). A iniciativa\, fundamentada na Resolução CONSU nº 062/2023 e na Instrução Normativa Reitoria nº 01/2024\, visa fortalecer a infraestrutura e as atividades de ensino\, pesquisa e inovação dos laboratórios institucionais por meio de auxílio financeiro. \n Cronograma: \n\n\nLançamento do Edital: 02 de junho de 2025 \n\n\nInscrições: 03 de junho a 01 de agosto de 2025 \n\n\nConfira o edital
URL:https://ppgel.uefs.br/event/uefs-lanca-edital-de-auxilio-financeiro-a-laboratorios-institucionais-prolab-2025/
END:VEVENT
END:VCALENDAR