BEGIN:VCALENDAR
VERSION:2.0
PRODID:-//PPGEL - ECPv6.7.0//NONSGML v1.0//EN
CALSCALE:GREGORIAN
METHOD:PUBLISH
X-ORIGINAL-URL:https://ppgel.uefs.br
X-WR-CALDESC:Eventos para PPGEL
REFRESH-INTERVAL;VALUE=DURATION:PT1H
X-Robots-Tag:noindex
X-PUBLISHED-TTL:PT1H
BEGIN:VTIMEZONE
TZID:America/Sao_Paulo
BEGIN:STANDARD
TZOFFSETFROM:-0300
TZOFFSETTO:-0300
TZNAME:-03
DTSTART:20240101T000000
END:STANDARD
END:VTIMEZONE
BEGIN:VEVENT
DTSTART;TZID=America/Sao_Paulo:20240722T080000
DTEND;TZID=America/Sao_Paulo:20240808T170000
DTSTAMP:20260419T233125
CREATED:20240724T104923Z
LAST-MODIFIED:20240724T104923Z
UID:2078-1721635200-1723136400@ppgel.uefs.br
SUMMARY:Bolsa de mestrado e doutorado sanduíche para estudantes da América Latina e Caribe
DESCRIPTION:Oferta é de bolsas de mestrado e doutorado\, no formato sanduíche\, para estudantes de instituições da América Latina e do Caribe\n\n\n\n\n\n\nComeçou nesta segunda-feira\, 22 de julho\, a fase de inscrição de candidatos para a primeira edição do Programa Move La América\, que oferta bolsas para que estudantes de outros países da América Latina e do Caribe complementem seus estudos no Brasil. O prazo para apresentação de candidaturas vai até 8 de agosto. O número de vagas de cada instituição de ensino superior brasileira participante da iniciativa pode ser acessado no site da CAPES. \n  \n\n\nCom o Move La América\, a CAPES promove a internacionalização do Sistema Nacional de Pós-Graduação e o intercâmbio de conhecimentos dentro do território nacional. O programa concederá até 500 bolsas de mestrado-sanduíche\, com duração de dois a três meses\, e 300 de doutorado-sanduíche\, por período de dois a seis meses. \n  \nA apresentação da candidatura deve ser realizada pelos estudantes estrangeiros por meio do Sistema de Inscrições da CAPES (Sicapes). As três rodadas de seleção pelas IES acontecerão de 15 a 22 de agosto\, de 29 de agosto a 5 de setembro e de 12 a 19 de setembro. As pró-reitorias farão as homologações de 26 de setembro a 3 de outubro. Os resultados desta etapa serão conhecidos a partir de 8 de outubro. \n  \n\n\nCumpridas essas etapas\, ocorre a análise técnica\, até 7 de novembro\, seguida pelo resultado preliminar\, a partir do dia 8. Os candidatos terão dez dias corridos para recorrer. A divulgação final será a partir de 26 de novembro. O início das atividades está mantido para o primeiro semestre de 2025. \n  \n\n\nSobre o Programa \n  \nO Programa Move La América é uma ação da CAPES para internacionalizar a pós-graduação brasileira\, atraindo pesquisadores dos outros países da América Latina e das nações caribenhas com a concessão de bolsas de mestrado-sanduíche e doutorado-sanduíche para que complementem seus estudos no Brasil. \n\n\n\n\n\n\n\n Coordenação de Aperfeiçoamento de Pessoal de Nível Superior (CAPES) é um órgão vinculado ao Ministério da Educação (MEC). \n\n\n\n\n\n\n\n\n\n\n\n\n\n\n\n\n\n\n\n\n\n\n\n\n\n\n\n\n\n\n\n\n\n\n\n\n\n\n\n\n\n\n\n\n\n\n\n\n\n\n\n\n\n\n\n\n\n\n\n\n\n\n\n\n\n\n\n\n\n\n\n\n\n\n\n\n\n\n\n\n\n\n\n\n\n\n\n\n\n(Brasília – Redação CGCOM/CAPES)\nA reprodução das notícias é autorizada desde que contenha a assinatura CGCOM/CAPES
URL:https://ppgel.uefs.br/event/bolsa-de-mestrado-e-doutorado-sanduiche-para-estudantes-da-america-latina-e-caribe/
END:VEVENT
BEGIN:VEVENT
DTSTART;TZID=America/Sao_Paulo:20240725T080000
DTEND;TZID=America/Sao_Paulo:20240801T170000
DTSTAMP:20260419T233125
CREATED:20240724T150207Z
LAST-MODIFIED:20240724T150207Z
UID:2080-1721894400-1722531600@ppgel.uefs.br
SUMMARY:Seleção aluno Especial 2024.2
DESCRIPTION:A Pró-Reitora de Pesquisa e Pós-Graduação da Universidade Estadual de Feira de Santana faz saber que as inscrições para a seleção de Alunos Especiais para o Programa de Pós-Graduação em Estudos Linguísticos estão abertas de 25 de julho a 01 de agosto de 2024 aos portadores de Diploma de nível superior da área de Letras ou áreas afins\, que desenvolvam ou que pretendam desenvolver atividades de ensino e/ou pesquisa em Estudos Linguísticos. \nEdital
URL:https://ppgel.uefs.br/event/selecao-aluno-especial-2024-2/
END:VEVENT
BEGIN:VEVENT
DTSTART;VALUE=DATE:20240812
DTEND;VALUE=DATE:20240814
DTSTAMP:20260419T233125
CREATED:20240808T122742Z
LAST-MODIFIED:20240808T122848Z
UID:2236-1723420800-1723593599@ppgel.uefs.br
SUMMARY:Atividade de Abertura do Semestre 2024.2
DESCRIPTION:
URL:https://ppgel.uefs.br/event/atividade-de-abertura-do-semestre-2024-2/
END:VEVENT
END:VCALENDAR