BEGIN:VCALENDAR
VERSION:2.0
PRODID:-//PPGEL - ECPv6.7.0//NONSGML v1.0//EN
CALSCALE:GREGORIAN
METHOD:PUBLISH
X-ORIGINAL-URL:https://ppgel.uefs.br
X-WR-CALDESC:Eventos para PPGEL
REFRESH-INTERVAL;VALUE=DURATION:PT1H
X-Robots-Tag:noindex
X-PUBLISHED-TTL:PT1H
BEGIN:VTIMEZONE
TZID:America/Sao_Paulo
BEGIN:STANDARD
TZOFFSETFROM:-0300
TZOFFSETTO:-0300
TZNAME:-03
DTSTART:20240101T000000
END:STANDARD
END:VTIMEZONE
BEGIN:VEVENT
DTSTART;TZID=America/Sao_Paulo:20241125T000000
DTEND;TZID=America/Sao_Paulo:20241213T235900
DTSTAMP:20260419T174940
CREATED:20241123T203402Z
LAST-MODIFIED:20241123T203515Z
UID:2599-1732492800-1734134340@ppgel.uefs.br
SUMMARY:Seleção de bolsista para Estágio Sanduíche no Exterior
DESCRIPTION:
URL:https://ppgel.uefs.br/event/selecao-de-bolsista-para-estagio-sanduiche-no-exterior/
END:VEVENT
BEGIN:VEVENT
DTSTART;VALUE=DATE:20241202
DTEND;VALUE=DATE:20241205
DTSTAMP:20260419T174940
CREATED:20240701T154635Z
LAST-MODIFIED:20240701T155048Z
UID:1188-1733097600-1733356799@ppgel.uefs.br
SUMMARY:30ª JORNADA DO GELNE
DESCRIPTION:A 30ª Jornada do GELNE é um evento organizado pela diretoria do Grupo de Estudos Linguísticos e Literários do Nordeste e por uma equipe de docentes atuantes em doze programas de pós-graduação da área de Letras e Linguística de sete universidades públicas situadas no Estado da Bahia (UEFS – Universidade Estadual de Feira de Santana; UESB – Universidade Estadual do Sudoeste da Bahia; UESC – Universidade Estadual de Santa Cruz; UFBA – Universidade Federal da Bahia; UNEB – Universidade do Estado da Bahia; UNILAB – Universidade de Integração Internacional da Lusofonia Afro-Brasileira. \nO tema do evento será “Pesquisa\, ensino e extensão em línguas e literaturas: trânsitos e intersecções”. Nesta edição\, assim como nas anteriores\, visamos promover discussões e trocas de experiências entre pesquisadores\, professores do ensino superior\, professores da educação básica\, estudantes de graduação e pós-graduação que atuam nas áreas dos estudos da linguagem e estudantes de nível fundamental e médio. \nO evento contemplará diversas questões no âmbito da Linguística e da Literatura. Nesta edição\, haverá 02 conferências e 12 mesas-redondas\, além de simpósios temáticos\, minicursos\, oficinas\, comunicações individuais\, pôsteres e lançamentos de livros.
URL:https://ppgel.uefs.br/event/30a-jornada-do-gelne/
LOCATION:UEFS\, Av. Transnordestina\, s/n\, Novo Horizonte\, Feira de Santana\, Bahia\, 44036-900\, Brasil
ATTACH;FMTTYPE=image/webp:https://ppgel.uefs.br/wp-content/uploads/2024/07/foto4.jpg.webp
END:VEVENT
BEGIN:VEVENT
DTSTART;TZID=America/Sao_Paulo:20241215T080000
DTEND;TZID=America/Sao_Paulo:20250131T170000
DTSTAMP:20260419T174941
CREATED:20241211T154726Z
LAST-MODIFIED:20241211T154726Z
UID:2660-1734249600-1738342800@ppgel.uefs.br
SUMMARY:Seleção de bolsista de Pós-doutorado CAPES do Programa Institucional de Pós-Doutorado (PIPD)
DESCRIPTION:A Reitora da Universidade Estadual de Feira de Santana torna público o presente Edital para a abertura de inscrições\, no período de 15 de dezembro de 2024 a 31 de janeiro de 2025\, referentes ao processo de seleção e admissão de 01 (um) bolsista de Pós-Doutorado no âmbito do Programa Institucional de Pós-Doutorado (PIPD)\, em conformidade com a Portaria nº 282\, de 4 de setembro de 2024\, e a Portaria nº 307\, de 24 de setembro de 2024\, da Coordenação de Aperfeiçoamento de Pessoal de Nível Superior (CAPES)\, para atuar no Programa de Pós-Graduação em Estudos Linguísticos. As inscrições deverão ser realizadas exclusivamente\, através do e-mail ppgel.secretaria@uefs.br. \nEDITAL
URL:https://ppgel.uefs.br/event/selecao-de-bolsista-de-pos-doutorado-capes-do-programa-institucional-de-pos-doutorado-pipd/
END:VEVENT
BEGIN:VEVENT
DTSTART;TZID=America/Sao_Paulo:20241221T080000
DTEND;TZID=America/Sao_Paulo:20250106T170000
DTSTAMP:20260419T174941
CREATED:20241219T142248Z
LAST-MODIFIED:20241219T142248Z
UID:2686-1734768000-1736182800@ppgel.uefs.br
SUMMARY:Recesso Natalino
DESCRIPTION:
URL:https://ppgel.uefs.br/event/recesso-natalino/
END:VEVENT
END:VCALENDAR